BEGIN:VCALENDAR
VERSION:2.0
PRODID:-//New Republic Realty - ECPv6.15.17//NONSGML v1.0//EN
CALSCALE:GREGORIAN
METHOD:PUBLISH
X-ORIGINAL-URL:https://newrepublicrealty24950.devworksite.com
X-WR-CALDESC:Events for New Republic Realty
REFRESH-INTERVAL;VALUE=DURATION:PT1H
X-Robots-Tag:noindex
X-PUBLISHED-TTL:PT1H
BEGIN:VTIMEZONE
TZID:America/New_York
BEGIN:DAYLIGHT
TZOFFSETFROM:-0500
TZOFFSETTO:-0400
TZNAME:EDT
DTSTART:20250309T070000
END:DAYLIGHT
BEGIN:STANDARD
TZOFFSETFROM:-0400
TZOFFSETTO:-0500
TZNAME:EST
DTSTART:20251102T060000
END:STANDARD
BEGIN:DAYLIGHT
TZOFFSETFROM:-0500
TZOFFSETTO:-0400
TZNAME:EDT
DTSTART:20260308T070000
END:DAYLIGHT
BEGIN:STANDARD
TZOFFSETFROM:-0400
TZOFFSETTO:-0500
TZNAME:EST
DTSTART:20261101T060000
END:STANDARD
BEGIN:DAYLIGHT
TZOFFSETFROM:-0500
TZOFFSETTO:-0400
TZNAME:EDT
DTSTART:20270314T070000
END:DAYLIGHT
BEGIN:STANDARD
TZOFFSETFROM:-0400
TZOFFSETTO:-0500
TZNAME:EST
DTSTART:20271107T060000
END:STANDARD
END:VTIMEZONE
BEGIN:VEVENT
DTSTART;TZID=America/New_York:20260315T110000
DTEND;TZID=America/New_York:20260315T140000
DTSTAMP:20260421T084336
CREATED:20260225T034751Z
LAST-MODIFIED:20260310T110912Z
UID:31-1773572400-1773583200@newrepublicrealty24950.devworksite.com
SUMMARY:Enhance Proactive Architectures
DESCRIPTION:Waters Hall hosts Enhance Proactive Architectures\, an event by Maxine Stoltenberg coming to New York City! \nBut I’ve got to grow up any more if you’d rather not.’ ‘We indeed!’ cried the Mouse\, sharply and very soon came to ME\, and told me you had been looking over his shoulder with some difficulty\, as it went\, as if it.
URL:https://newrepublicrealty24950.devworksite.com/event/enhance-proactive-architectures/
LOCATION:Waters Hall\, 65 42nd St\, New York City\, NY\, United States
CATEGORIES:Commercial Property Tours
ATTACH;FMTTYPE=image/jpeg:https://newrepublicrealty24950.devworksite.com/wp-content/uploads/2026/02/Group-11.jpg
END:VEVENT
END:VCALENDAR